BEGIN:VCALENDAR
VERSION:2.0
PRODID:-//Plastics Decorating - ECPv6.15.17.1//NONSGML v1.0//EN
CALSCALE:GREGORIAN
METHOD:PUBLISH
X-ORIGINAL-URL:https://plasticsdecorating.com
X-WR-CALDESC:Events for Plastics Decorating
REFRESH-INTERVAL;VALUE=DURATION:PT1H
X-Robots-Tag:noindex
X-PUBLISHED-TTL:PT1H
BEGIN:VTIMEZONE
TZID:America/Chicago
BEGIN:DAYLIGHT
TZOFFSETFROM:-0600
TZOFFSETTO:-0500
TZNAME:CDT
DTSTART:20190310T080000
END:DAYLIGHT
BEGIN:STANDARD
TZOFFSETFROM:-0500
TZOFFSETTO:-0600
TZNAME:CST
DTSTART:20191103T070000
END:STANDARD
BEGIN:DAYLIGHT
TZOFFSETFROM:-0600
TZOFFSETTO:-0500
TZNAME:CDT
DTSTART:20200308T080000
END:DAYLIGHT
BEGIN:STANDARD
TZOFFSETFROM:-0500
TZOFFSETTO:-0600
TZNAME:CST
DTSTART:20201101T070000
END:STANDARD
BEGIN:DAYLIGHT
TZOFFSETFROM:-0600
TZOFFSETTO:-0500
TZNAME:CDT
DTSTART:20210314T080000
END:DAYLIGHT
BEGIN:STANDARD
TZOFFSETFROM:-0500
TZOFFSETTO:-0600
TZNAME:CST
DTSTART:20211107T070000
END:STANDARD
END:VTIMEZONE
BEGIN:VEVENT
DTSTART;VALUE=DATE:20201109
DTEND;VALUE=DATE:20201114
DTSTAMP:20260423T140408
CREATED:20200921T161237Z
LAST-MODIFIED:20200921T161358Z
UID:5278-1604880000-1605311999@plasticsdecorating.com
SUMMARY:PACK EXPO Connects 2020
DESCRIPTION:Produced by PMMI Media Group\, PACK EXPO Connects is a virtual event like no other. Live chats\, live product demos and enhanced lead generation are just a few of many items offered to maximize opportunities for industry connections. \nConnect with new and current customers during the year’s most exciting week for packaging – the launch of PACK EXPO Connects on November 9th!
URL:https://plasticsdecorating.com/event/pack-expo-connects-2020/
LOCATION:IL
CATEGORIES:Expo,Virtual
ATTACH;FMTTYPE=image/jpeg:https://plasticsdecorating.com/wp-content/uploads/PD-Featured-Image-crop.jpg
END:VEVENT
END:VCALENDAR