BEGIN:VCALENDAR
VERSION:2.0
PRODID:-//Plastics Decorating - ECPv6.15.17.1//NONSGML v1.0//EN
CALSCALE:GREGORIAN
METHOD:PUBLISH
X-WR-CALNAME:Plastics Decorating
X-ORIGINAL-URL:https://plasticsdecorating.com
X-WR-CALDESC:Events for Plastics Decorating
REFRESH-INTERVAL;VALUE=DURATION:PT1H
X-Robots-Tag:noindex
X-PUBLISHED-TTL:PT1H
BEGIN:VTIMEZONE
TZID:America/Chicago
BEGIN:DAYLIGHT
TZOFFSETFROM:-0600
TZOFFSETTO:-0500
TZNAME:CDT
DTSTART:20210314T080000
END:DAYLIGHT
BEGIN:STANDARD
TZOFFSETFROM:-0500
TZOFFSETTO:-0600
TZNAME:CST
DTSTART:20211107T070000
END:STANDARD
BEGIN:DAYLIGHT
TZOFFSETFROM:-0600
TZOFFSETTO:-0500
TZNAME:CDT
DTSTART:20220313T080000
END:DAYLIGHT
BEGIN:STANDARD
TZOFFSETFROM:-0500
TZOFFSETTO:-0600
TZNAME:CST
DTSTART:20221106T070000
END:STANDARD
BEGIN:DAYLIGHT
TZOFFSETFROM:-0600
TZOFFSETTO:-0500
TZNAME:CDT
DTSTART:20230312T080000
END:DAYLIGHT
BEGIN:STANDARD
TZOFFSETFROM:-0500
TZOFFSETTO:-0600
TZNAME:CST
DTSTART:20231105T070000
END:STANDARD
END:VTIMEZONE
BEGIN:VEVENT
DTSTART;VALUE=DATE:20220525
DTEND;VALUE=DATE:20220527
DTSTAMP:20260422T111008
CREATED:20220104T162451Z
LAST-MODIFIED:20220104T162451Z
UID:7090-1653436800-1653609599@plasticsdecorating.com
SUMMARY:Injection Molding and Design Expo
DESCRIPTION:
URL:https://plasticsdecorating.com/event/injection-molding-and-design-expo/
LOCATION:IL
CATEGORIES:Expo
ATTACH;FMTTYPE=image/jpeg:https://plasticsdecorating.com/wp-content/uploads/PD-Featured-Image-crop.jpg
END:VEVENT
END:VCALENDAR