BEGIN:VCALENDAR
VERSION:2.0
PRODID:-//Plastics Decorating - ECPv6.15.17.1//NONSGML v1.0//EN
CALSCALE:GREGORIAN
METHOD:PUBLISH
X-WR-CALNAME:Plastics Decorating
X-ORIGINAL-URL:https://plasticsdecorating.com
X-WR-CALDESC:Events for Plastics Decorating
REFRESH-INTERVAL;VALUE=DURATION:PT1H
X-Robots-Tag:noindex
X-PUBLISHED-TTL:PT1H
BEGIN:VTIMEZONE
TZID:America/Chicago
BEGIN:DAYLIGHT
TZOFFSETFROM:-0600
TZOFFSETTO:-0500
TZNAME:CDT
DTSTART:20220313T080000
END:DAYLIGHT
BEGIN:STANDARD
TZOFFSETFROM:-0500
TZOFFSETTO:-0600
TZNAME:CST
DTSTART:20221106T070000
END:STANDARD
BEGIN:DAYLIGHT
TZOFFSETFROM:-0600
TZOFFSETTO:-0500
TZNAME:CDT
DTSTART:20230312T080000
END:DAYLIGHT
BEGIN:STANDARD
TZOFFSETFROM:-0500
TZOFFSETTO:-0600
TZNAME:CST
DTSTART:20231105T070000
END:STANDARD
BEGIN:DAYLIGHT
TZOFFSETFROM:-0600
TZOFFSETTO:-0500
TZNAME:CDT
DTSTART:20240310T080000
END:DAYLIGHT
BEGIN:STANDARD
TZOFFSETFROM:-0500
TZOFFSETTO:-0600
TZNAME:CST
DTSTART:20241103T070000
END:STANDARD
END:VTIMEZONE
BEGIN:VEVENT
DTSTART;VALUE=DATE:20231115
DTEND;VALUE=DATE:20231117
DTSTAMP:20260421T085519
CREATED:20230620T144315Z
LAST-MODIFIED:20230620T144952Z
UID:8391-1700006400-1700179199@plasticsdecorating.com
SUMMARY:AMI Plastics World Expos North America
DESCRIPTION:Get ready to visit the AMI Plastics World Expos in Cleveland\, OH. \nOur co-located expos bring together hundreds of suppliers focused on plastics compounding\, recycling\, extrusion and testing. Source new technologies\, materials and services to increase process efficiency\, reduce costs and improve product quality. \nRunning alongside the exhibitions are five free conference theaters featuring technical talks\, business debates\, market forecasts and practical training seminars. \nThe exhibitions and conferences provide a one-stop shop to source new suppliers\, discover innovative technologies and grow your network of contacts.
URL:https://plasticsdecorating.com/event/ami-plastics-world-expos-north-america/
LOCATION:IL
CATEGORIES:Conference,Expo
ATTACH;FMTTYPE=image/png:https://plasticsdecorating.com/wp-content/uploads/Screenshot-2023-06-20-094240.png
END:VEVENT
END:VCALENDAR