BEGIN:VCALENDAR
VERSION:2.0
PRODID:-//Plastics Decorating - ECPv6.15.17.1//NONSGML v1.0//EN
CALSCALE:GREGORIAN
METHOD:PUBLISH
X-WR-CALNAME:Plastics Decorating
X-ORIGINAL-URL:https://plasticsdecorating.com
X-WR-CALDESC:Events for Plastics Decorating
REFRESH-INTERVAL;VALUE=DURATION:PT1H
X-Robots-Tag:noindex
X-PUBLISHED-TTL:PT1H
BEGIN:VTIMEZONE
TZID:America/Chicago
BEGIN:DAYLIGHT
TZOFFSETFROM:-0600
TZOFFSETTO:-0500
TZNAME:CDT
DTSTART:20200308T080000
END:DAYLIGHT
BEGIN:STANDARD
TZOFFSETFROM:-0500
TZOFFSETTO:-0600
TZNAME:CST
DTSTART:20201101T070000
END:STANDARD
BEGIN:DAYLIGHT
TZOFFSETFROM:-0600
TZOFFSETTO:-0500
TZNAME:CDT
DTSTART:20210314T080000
END:DAYLIGHT
BEGIN:STANDARD
TZOFFSETFROM:-0500
TZOFFSETTO:-0600
TZNAME:CST
DTSTART:20211107T070000
END:STANDARD
BEGIN:DAYLIGHT
TZOFFSETFROM:-0600
TZOFFSETTO:-0500
TZNAME:CDT
DTSTART:20220313T080000
END:DAYLIGHT
BEGIN:STANDARD
TZOFFSETFROM:-0500
TZOFFSETTO:-0600
TZNAME:CST
DTSTART:20221106T070000
END:STANDARD
BEGIN:DAYLIGHT
TZOFFSETFROM:-0600
TZOFFSETTO:-0500
TZNAME:CDT
DTSTART:20230312T080000
END:DAYLIGHT
BEGIN:STANDARD
TZOFFSETFROM:-0500
TZOFFSETTO:-0600
TZNAME:CST
DTSTART:20231105T070000
END:STANDARD
BEGIN:DAYLIGHT
TZOFFSETFROM:-0600
TZOFFSETTO:-0500
TZNAME:CDT
DTSTART:20240310T080000
END:DAYLIGHT
BEGIN:STANDARD
TZOFFSETFROM:-0500
TZOFFSETTO:-0600
TZNAME:CST
DTSTART:20241103T070000
END:STANDARD
BEGIN:DAYLIGHT
TZOFFSETFROM:-0600
TZOFFSETTO:-0500
TZNAME:CDT
DTSTART:20250309T080000
END:DAYLIGHT
BEGIN:STANDARD
TZOFFSETFROM:-0500
TZOFFSETTO:-0600
TZNAME:CST
DTSTART:20251102T070000
END:STANDARD
BEGIN:DAYLIGHT
TZOFFSETFROM:-0600
TZOFFSETTO:-0500
TZNAME:CDT
DTSTART:20260308T080000
END:DAYLIGHT
BEGIN:STANDARD
TZOFFSETFROM:-0500
TZOFFSETTO:-0600
TZNAME:CST
DTSTART:20261101T070000
END:STANDARD
BEGIN:DAYLIGHT
TZOFFSETFROM:-0600
TZOFFSETTO:-0500
TZNAME:CDT
DTSTART:20270314T080000
END:DAYLIGHT
BEGIN:STANDARD
TZOFFSETFROM:-0500
TZOFFSETTO:-0600
TZNAME:CST
DTSTART:20271107T070000
END:STANDARD
END:VTIMEZONE
BEGIN:VEVENT
DTSTART;VALUE=DATE:20260317
DTEND;VALUE=DATE:20260320
DTSTAMP:20260420T101819
CREATED:20260225T223129Z
LAST-MODIFIED:20260225T223129Z
UID:12503-1773705600-1773964799@plasticsdecorating.com
SUMMARY:PTXPO
DESCRIPTION:
URL:https://plasticsdecorating.com/event/ptxpo/
LOCATION:Donald E. Stevens Conventional Center in Rosemont\, Chicago
CATEGORIES:Expo,tradeshow
ATTACH;FMTTYPE=image/avif:https://plasticsdecorating.com/wp-content/uploads/PTX23_Logo_OnLight.avif
END:VEVENT
BEGIN:VEVENT
DTSTART;VALUE=DATE:20241008
DTEND;VALUE=DATE:20241016
DTSTAMP:20260420T101819
CREATED:20240116T192231Z
LAST-MODIFIED:20240116T192231Z
UID:8961-1728345600-1729036799@plasticsdecorating.com
SUMMARY:K 2025
DESCRIPTION:
URL:https://plasticsdecorating.com/event/k-2025/
LOCATION:Düsseldorf\, Germany
CATEGORIES:tradeshow
ATTACH;FMTTYPE=image/jpeg:https://plasticsdecorating.com/wp-content/uploads/PD-Featured-Image-crop.jpg
END:VEVENT
BEGIN:VEVENT
DTSTART;VALUE=DATE:20240506
DTEND;VALUE=DATE:20240511
DTSTAMP:20260420T101819
CREATED:20230620T150055Z
LAST-MODIFIED:20231222T155823Z
UID:8399-1714953600-1715385599@plasticsdecorating.com
SUMMARY:NPE2024 The Plastics Show
DESCRIPTION:Every three years\, bold leaders\, creative thinkers\, and visionaries from every industry in the world gather at NPE to advance their business through innovations in plastics.   \nIn just 5 days at NPE2024\, you’ll build new partnerships\, experience the latest technology\, and unlock new opportunities to drive exponential growth for your organization. 
URL:https://plasticsdecorating.com/event/npe2024-the-plastics-show/
LOCATION:NV
CATEGORIES:tradeshow
ATTACH;FMTTYPE=image/jpeg:https://plasticsdecorating.com/wp-content/uploads/PD-Featured-Image-crop.jpg
END:VEVENT
BEGIN:VEVENT
DTSTART;VALUE=DATE:20231108
DTEND;VALUE=DATE:20231109
DTSTAMP:20260420T101819
CREATED:20230620T145309Z
LAST-MODIFIED:20230620T145309Z
UID:8396-1699401600-1699487999@plasticsdecorating.com
SUMMARY:SPE Automotive Div. Innovation Awards
DESCRIPTION:For over 50 years the SPE Automotive Innovation Awards Program has been the most prestigious and largest competition of its kind in the world. Dozens of teams made up of OEMs\, tier suppliers\, and polymer producers submit nominations describing their part\, system\, or complete vehicle and why it merits the claim as the Year’s Most Innovative Use of Plastics. This annual event typically draws over 700 OEM engineers\, automotive and plastics industry executives\, and media. As is customary\, funds raised from this event are used to support SPE educational efforts and technical seminars\, which help educate and secure the role of plastics in the advancement of the automobile.
URL:https://plasticsdecorating.com/event/spe-automotive-div-innovation-awards/
LOCATION:NV
CATEGORIES:tradeshow
ATTACH;FMTTYPE=image/jpeg:https://plasticsdecorating.com/wp-content/uploads/PD-Featured-Image-crop.jpg
END:VEVENT
BEGIN:VEVENT
DTSTART;VALUE=DATE:20210915
DTEND;VALUE=DATE:20210918
DTSTAMP:20260420T101819
CREATED:20210112T211250Z
LAST-MODIFIED:20210113T162658Z
UID:5989-1631664000-1631923199@plasticsdecorating.com
SUMMARY:SPE Decorating & Assembly TopCon
DESCRIPTION:SPE Decorating & Assembly TopCon\nStart Date: Tuesday\, September 15\, 2021\nEnd Date: Saturday\, September 17\, 2021\nLast Day to Book: Monday\, August 16\, 2021 \nHotel(s) offering your special group rate:\n• The Westin Edina Galleria for 205 USD per night\nBook your group rate for SPE Decorating & Assembly TopCon
URL:https://plasticsdecorating.com/event/spe-decorating-assembly-topcon/
LOCATION:NV
CATEGORIES:tradeshow
ATTACH;FMTTYPE=image/jpeg:https://plasticsdecorating.com/wp-content/uploads/PD-Featured-Image-crop.jpg
END:VEVENT
BEGIN:VEVENT
DTSTART;VALUE=DATE:20210608
DTEND;VALUE=DATE:20210611
DTSTAMP:20260420T101819
CREATED:20200630T213226Z
LAST-MODIFIED:20201016T193025Z
UID:4685-1623110400-1623369599@plasticsdecorating.com
SUMMARY:Labelexpo Americas 2021
DESCRIPTION:  \nTECHNOLOGY IN ACTION\nWhether you’re choosing machinery or materials\, it is vital you feel confident about your decisions. The best way to do this is to see all the options together in one place. \nCome to Labelexpo Americas 2021 and hear the noise of the machinery in operation\, feel the texture of the substrates and see the print quality for yourself. \nMagazines\, websites and brochures cannot compare. Experience it live and make a better choice.
URL:https://plasticsdecorating.com/event/labelexpo-americas-2021/
LOCATION:Donald E. Stephens Convention Center\, Chicago\, IL
CATEGORIES:tradeshow
ATTACH;FMTTYPE=image/jpeg:https://plasticsdecorating.com/wp-content/uploads/PD-Featured-Image-crop.jpg
END:VEVENT
END:VCALENDAR